BEGIN:VCALENDAR
VERSION:2.0
PRODID:icalendar-ruby
CALSCALE:GREGORIAN
METHOD:PUBLISH
X-WR-CALNAME:Yarmouth Curling Club: Draws
BEGIN:VTIMEZONE
TZID:America/Halifax
BEGIN:DAYLIGHT
DTSTART:20260308T030000
TZOFFSETFROM:-0400
TZOFFSETTO:-0300
RRULE:FREQ=YEARLY;BYDAY=2SU;BYMONTH=3
TZNAME:ADT
END:DAYLIGHT
BEGIN:STANDARD
DTSTART:20261101T010000
TZOFFSETFROM:-0300
TZOFFSETTO:-0400
RRULE:FREQ=YEARLY;BYDAY=1SU;BYMONTH=11
TZNAME:AST
END:STANDARD
END:VTIMEZONE
BEGIN:VEVENT
DTSTAMP:20260420T131238Z
UID:drawid:193487
DTSTART:20251103T183000
DTEND:20251103T203000
DESCRIPTION:Glace 1: Alex L. v Glen S.\, Glace 2: Brian M. v Rick C.\, Glac
 e 3: Charles v Mike R.\, Glace 4: Dave C. v Pam C.\, Glace 5: Jack C. v Ja
 son B.
LOCATION:28 Forbes Street\, Yarmouth\, B5A 4B1\, NS\, CA
SEQUENCE:1776690758
SUMMARY:Monday Night Social by Wendy's
URL;VALUE=URI:https://yarmouth.curling.io/fr/events/26306-monday-night-soci
 al-by-wendy-s/widget
END:VEVENT
BEGIN:VEVENT
DTSTAMP:20260420T131238Z
UID:drawid:193488
DTSTART:20251110T183000
DTEND:20251110T203000
DESCRIPTION:Glace 1: Charles v Gilles R.\, Glace 2: Alex L. v Jack C.\, Gla
 ce 3: Glen S. v Pam C.\, Glace 4: Jason B. v Mike R.\, Glace 5: Dave C. v 
 Rick C.
LOCATION:28 Forbes Street\, Yarmouth\, B5A 4B1\, NS\, CA
SEQUENCE:1776690758
SUMMARY:Monday Night Social by Wendy's
URL;VALUE=URI:https://yarmouth.curling.io/fr/events/26306-monday-night-soci
 al-by-wendy-s/widget
END:VEVENT
BEGIN:VEVENT
DTSTAMP:20260420T131238Z
UID:drawid:196347
DTSTART:20251113T183000
DTEND:20251113T203000
DESCRIPTION:Glace 1: Wade N. v Blake S.\, Glace 2: Nic D. v Paul D.\, Glace
  3: Jack C. v Tyler D.\, Glace 4: Aaron S. v Albert W.\, Glace 5: Dave C. 
 v Jason B.\, Glace 6: Nick H. v Warren D.
LOCATION:28 Forbes Street\, Yarmouth\, B5A 4B1\, NS\, CA
SEQUENCE:1776690758
SUMMARY:Thursday Night Competitive
URL;VALUE=URI:https://yarmouth.curling.io/fr/events/26310-thursday-night-co
 mpetitive/widget
END:VEVENT
BEGIN:VEVENT
DTSTAMP:20260420T131238Z
UID:drawid:193489
DTSTART:20251117T183000
DTEND:20251117T203000
DESCRIPTION:Glace 1: Pam C. v Brian M.\, Glace 2: Dave C. v Glen S.\, Glace
  3: Gilles R. v Rick C.\, Glace 4: Charles v Jack C.\, Glace 5: Alex L. v 
 Mike R.
LOCATION:28 Forbes Street\, Yarmouth\, B5A 4B1\, NS\, CA
SEQUENCE:1776690758
SUMMARY:Monday Night Social by Wendy's
URL;VALUE=URI:https://yarmouth.curling.io/fr/events/26306-monday-night-soci
 al-by-wendy-s/widget
END:VEVENT
BEGIN:VEVENT
DTSTAMP:20260420T131238Z
UID:drawid:196348
DTSTART:20251120T183000
DTEND:20251120T203000
DESCRIPTION:Glace 1: Albert W. v Tyler D.\, Glace 2: Blake S. v Warren D.\,
  Glace 3: Aaron S. v Nick H.\, Glace 4: Paul D. v Jason B.\, Glace 5: Jack
  C. v Wade N.\, Glace 6: Dave C. v Nic D.
LOCATION:28 Forbes Street\, Yarmouth\, B5A 4B1\, NS\, CA
SEQUENCE:1776690758
SUMMARY:Thursday Night Competitive
URL;VALUE=URI:https://yarmouth.curling.io/fr/events/26310-thursday-night-co
 mpetitive/widget
END:VEVENT
BEGIN:VEVENT
DTSTAMP:20260420T131238Z
UID:drawid:193490
DTSTART:20251124T183000
DTEND:20251124T203000
DESCRIPTION:Glace 1: Dave C. v Jack C.\, Glace 2: Pam C. v Mike R.\, Glace 
 3: Jason B. v Brian M.\, Glace 4: Alex L. v Rick C.\, Glace 5: Gilles R. v
  Glen S.
LOCATION:28 Forbes Street\, Yarmouth\, B5A 4B1\, NS\, CA
SEQUENCE:1776690758
SUMMARY:Monday Night Social by Wendy's
URL;VALUE=URI:https://yarmouth.curling.io/fr/events/26306-monday-night-soci
 al-by-wendy-s/widget
END:VEVENT
BEGIN:VEVENT
DTSTAMP:20260420T131238Z
UID:drawid:196349
DTSTART:20251127T183000
DTEND:20251127T203000
DESCRIPTION:Glace 1: Aaron S. v Warren D.\, Glace 2: Jason B. v Tyler D.\, 
 Glace 3: Dave C. v Albert W.\, Glace 4: Nic D. v Wade N.\, Glace 5: Paul D
 . v Nick H.\, Glace 6: Jack C. v Blake S.
LOCATION:28 Forbes Street\, Yarmouth\, B5A 4B1\, NS\, CA
SEQUENCE:1776690758
SUMMARY:Thursday Night Competitive
URL;VALUE=URI:https://yarmouth.curling.io/fr/events/26310-thursday-night-co
 mpetitive/widget
END:VEVENT
BEGIN:VEVENT
DTSTAMP:20260420T131238Z
UID:drawid:193491
DTSTART:20251201T183000
DTEND:20251201T203000
DESCRIPTION:Glace 1: Mike R. v Rick C.\, Glace 2: Gilles R. v Jason B.\, Gl
 ace 3: Alex L. v Dave C.\, Glace 4: Glen S. v Brian M.\, Glace 5: Charles 
 v Pam C.
LOCATION:28 Forbes Street\, Yarmouth\, B5A 4B1\, NS\, CA
SEQUENCE:1776690758
SUMMARY:Monday Night Social by Wendy's
URL;VALUE=URI:https://yarmouth.curling.io/fr/events/26306-monday-night-soci
 al-by-wendy-s/widget
END:VEVENT
BEGIN:VEVENT
DTSTAMP:20260420T131238Z
UID:drawid:196350
DTSTART:20251204T183000
DTEND:20251204T203000
DESCRIPTION:Glace 1: Nic D. v Jason B.\, Glace 2: Dave C. v Jack C.\, Glace
  3: Paul D. v Warren D.\, Glace 4: Nick H. v Tyler D.\, Glace 5: Aaron S. 
 v Blake S.\, Glace 6: Wade N. v Albert W.
LOCATION:28 Forbes Street\, Yarmouth\, B5A 4B1\, NS\, CA
SEQUENCE:1776690758
SUMMARY:Thursday Night Competitive
URL;VALUE=URI:https://yarmouth.curling.io/fr/events/26310-thursday-night-co
 mpetitive/widget
END:VEVENT
BEGIN:VEVENT
DTSTAMP:20260420T131238Z
UID:drawid:193492
DTSTART:20251208T183000
DTEND:20251208T203000
DESCRIPTION:Glace 1: Alex L. v Jason B.\, Glace 2: Charles v Rick C.\, Glac
 e 3: Jack C. v Pam C.\, Glace 4: Gilles R. v Mike R.\, Glace 5: Dave C. v 
 Brian M.
LOCATION:28 Forbes Street\, Yarmouth\, B5A 4B1\, NS\, CA
SEQUENCE:1776690758
SUMMARY:Monday Night Social by Wendy's
URL;VALUE=URI:https://yarmouth.curling.io/fr/events/26306-monday-night-soci
 al-by-wendy-s/widget
END:VEVENT
BEGIN:VEVENT
DTSTAMP:20260420T131238Z
UID:drawid:196351
DTSTART:20251211T183000
DTEND:20251211T203000
DESCRIPTION:Glace 1: Dave C. v Nick H.\, Glace 2: Aaron S. v Wade N.\, Glac
 e 3: Blake S. v Jason B.\, Glace 4: Jack C. v Warren D.\, Glace 5: Nic D. 
 v Albert W.\, Glace 6: Paul D. v Tyler D.
LOCATION:28 Forbes Street\, Yarmouth\, B5A 4B1\, NS\, CA
SEQUENCE:1776690758
SUMMARY:Thursday Night Competitive
URL;VALUE=URI:https://yarmouth.curling.io/fr/events/26310-thursday-night-co
 mpetitive/widget
END:VEVENT
BEGIN:VEVENT
DTSTAMP:20260420T131238Z
UID:drawid:193493
DTSTART:20251215T183000
DTEND:20251215T203000
DESCRIPTION:Glace 1: Charles v Glen S.\, Glace 2: Alex L. v Pam C.\, Glace 
 3: Gilles R. v Brian M.\, Glace 4: Jason B. v Rick C.\, Glace 5: Jack C. v
  Mike R.
LOCATION:28 Forbes Street\, Yarmouth\, B5A 4B1\, NS\, CA
SEQUENCE:1776690758
SUMMARY:Monday Night Social by Wendy's
URL;VALUE=URI:https://yarmouth.curling.io/fr/events/26306-monday-night-soci
 al-by-wendy-s/widget
END:VEVENT
BEGIN:VEVENT
DTSTAMP:20260420T131238Z
UID:drawid:196352
DTSTART:20251218T183000
DTEND:20251218T203000
DESCRIPTION:Glace 1: Jack C. v Albert W.\, Glace 2: Blake S. v Nick H.\, Gl
 ace 3: Wade N. v Tyler D.\, Glace 4: Dave C. v Paul D.\, Glace 5: Jason B.
  v Warren D.\, Glace 6: Aaron S. v Nic D.
LOCATION:28 Forbes Street\, Yarmouth\, B5A 4B1\, NS\, CA
SEQUENCE:1776690758
SUMMARY:Thursday Night Competitive
URL;VALUE=URI:https://yarmouth.curling.io/fr/events/26310-thursday-night-co
 mpetitive/widget
END:VEVENT
BEGIN:VEVENT
DTSTAMP:20260420T131238Z
UID:drawid:193494
DTSTART:20251229T183000
DTEND:20251229T203000
DESCRIPTION:Glace 1: Pam C. v Rick C.\, Glace 2: Jack C. v Brian M.\, Glace
  3: Glen S. v Jason B.\, Glace 4: Charles v Dave C.\, Glace 5: Alex L. v G
 illes R.
LOCATION:28 Forbes Street\, Yarmouth\, B5A 4B1\, NS\, CA
SEQUENCE:1776690758
SUMMARY:Monday Night Social by Wendy's
URL;VALUE=URI:https://yarmouth.curling.io/fr/events/26306-monday-night-soci
 al-by-wendy-s/widget
END:VEVENT
BEGIN:VEVENT
DTSTAMP:20260420T131238Z
UID:drawid:196353
DTSTART:20260101T183000
DTEND:20260101T203000
DESCRIPTION:Glace 1: Wade N. v Warren D.\, Glace 2: Nic D. v Tyler D.\, Gla
 ce 3: Albert W. v Nick H.\, Glace 4: Aaron S. v Jason B.\, Glace 5: Jack C
 . v Paul D.\, Glace 6: Dave C. v Blake S.
LOCATION:28 Forbes Street\, Yarmouth\, B5A 4B1\, NS\, CA
SEQUENCE:1776690758
SUMMARY:Thursday Night Competitive
URL;VALUE=URI:https://yarmouth.curling.io/fr/events/26310-thursday-night-co
 mpetitive/widget
END:VEVENT
BEGIN:VEVENT
DTSTAMP:20260420T131238Z
UID:drawid:193495
DTSTART:20260105T183000
DTEND:20260105T203000
DESCRIPTION:Glace 1: Dave C. v Jason B.\, Glace 2: Glen S. v Mike R.\, Glac
 e 3: Jack C. v Rick C.\, Glace 4: Gilles R. v Pam C.\, Glace 5: Charles v 
 Brian M.
LOCATION:28 Forbes Street\, Yarmouth\, B5A 4B1\, NS\, CA
SEQUENCE:1776690758
SUMMARY:Monday Night Social by Wendy's
URL;VALUE=URI:https://yarmouth.curling.io/fr/events/26306-monday-night-soci
 al-by-wendy-s/widget
END:VEVENT
BEGIN:VEVENT
DTSTAMP:20260420T131238Z
UID:drawid:196354
DTSTART:20260108T183000
DTEND:20260108T203000
DESCRIPTION:Glace 1: Aaron S. v Paul D.\, Glace 2: Albert W. v Jason B.\, G
 lace 3: Nic D. v Warren D.\, Glace 4: Blake S. v Tyler D.\, Glace 5: Dave 
 C. v Wade N.\, Glace 6: Jack C. v Nick H.
LOCATION:28 Forbes Street\, Yarmouth\, B5A 4B1\, NS\, CA
SEQUENCE:1776690758
SUMMARY:Thursday Night Competitive
URL;VALUE=URI:https://yarmouth.curling.io/fr/events/26310-thursday-night-co
 mpetitive/widget
END:VEVENT
BEGIN:VEVENT
DTSTAMP:20260420T131238Z
UID:drawid:193496
DTSTART:20260112T183000
DTEND:20260112T203000
DESCRIPTION:Glace 1: Gilles R. v Jack C.\, Glace 2: Charles v Jason B.\, Gl
 ace 3: Dave C. v Mike R.\, Glace 4: Alex L. v Brian M.\, Glace 5: Glen S. 
 v Rick C.
LOCATION:28 Forbes Street\, Yarmouth\, B5A 4B1\, NS\, CA
SEQUENCE:1776690758
SUMMARY:Monday Night Social by Wendy's
URL;VALUE=URI:https://yarmouth.curling.io/fr/events/26306-monday-night-soci
 al-by-wendy-s/widget
END:VEVENT
BEGIN:VEVENT
DTSTAMP:20260420T131238Z
UID:drawid:207883
DTSTART:20260113T193000
DTEND:20260113T213000
DESCRIPTION:Glace 1: Charles v Rick/Char\, Glace 2: Gilles/Gab v Logan/Emma
 \, Glace 3: Hilary & Blake v Michael H.\, Glace 4: Jordan/Pam v Tyler & Al
 ex\, Glace 5: Glenn v Maria & Nic
LOCATION:28 Forbes Street\, Yarmouth\, B5A 4B1\, NS\, CA
SEQUENCE:1776690758
SUMMARY:Tuesday Night Doubles (January)
URL;VALUE=URI:https://yarmouth.curling.io/fr/events/26334-tuesday-night-dou
 bles-january/widget
END:VEVENT
BEGIN:VEVENT
DTSTAMP:20260420T131238Z
UID:drawid:196355
DTSTART:20260115T183000
DTEND:20260115T203000
DESCRIPTION:Glace 1: Dave C. v Tyler D.\, Glace 2: Aaron S. v Jack C.\, Gla
 ce 3: Paul D. v Blake S.\, Glace 4: Albert W. v Warren D.\, Glace 5: Nic D
 . v Nick H.\, Glace 6: Wade N. v Jason B.
LOCATION:28 Forbes Street\, Yarmouth\, B5A 4B1\, NS\, CA
SEQUENCE:1776690758
SUMMARY:Thursday Night Competitive
URL;VALUE=URI:https://yarmouth.curling.io/fr/events/26310-thursday-night-co
 mpetitive/widget
END:VEVENT
BEGIN:VEVENT
DTSTAMP:20260420T131238Z
UID:drawid:203252
DTSTART:20260117T090000
DTEND:20260117T110000
DESCRIPTION:Glace 1: Alex LeBlanc v Donna Barrett\, Glace 2: Barrington 1 v
  Patti Simpson\, Glace 3: Clare 1 v Judy Jeske\, Glace 4: Clare 2 v Lynn D
 oucet
LOCATION:28 Forbes Street\, Yarmouth\, B5A 4B1\, NS\, CA
SEQUENCE:1776690758
SUMMARY:Wishin' it was Summer Ladies Spiel
URL;VALUE=URI:https://yarmouth.curling.io/fr/events/26468-wishin-it-was-sum
 mer-ladies-spiel/widget
END:VEVENT
BEGIN:VEVENT
DTSTAMP:20260420T131238Z
UID:drawid:203253
DTSTART:20260117T100000
DTEND:20260117T120000
DESCRIPTION:Glace 1: Margaret Morgan v Pauline Bullerw\, Glace 2: Laura Bra
 nchaud v Lynn Doucet\, Glace 3: Clare 2 v Jodi MacMaster\, Glace 4: Alex L
 eBlanc v Judy Jeske
LOCATION:28 Forbes Street\, Yarmouth\, B5A 4B1\, NS\, CA
SEQUENCE:1776690758
SUMMARY:Wishin' it was Summer Ladies Spiel
URL;VALUE=URI:https://yarmouth.curling.io/fr/events/26468-wishin-it-was-sum
 mer-ladies-spiel/widget
END:VEVENT
BEGIN:VEVENT
DTSTAMP:20260420T131238Z
UID:drawid:203254
DTSTART:20260117T110000
DTEND:20260117T130000
DESCRIPTION:Glace 1: Barrington 1 v Donna Barrett\, Glace 2: Jodi MacMaster
  v Margaret Morgan\, Glace 3: Clare 1 v Patti Simpson\, Glace 4: Laura Bra
 nchaud v Pauline Bullerw
LOCATION:28 Forbes Street\, Yarmouth\, B5A 4B1\, NS\, CA
SEQUENCE:1776690758
SUMMARY:Wishin' it was Summer Ladies Spiel
URL;VALUE=URI:https://yarmouth.curling.io/fr/events/26468-wishin-it-was-sum
 mer-ladies-spiel/widget
END:VEVENT
BEGIN:VEVENT
DTSTAMP:20260420T131238Z
UID:drawid:203256
DTSTART:20260117T130000
DTEND:20260117T150000
DESCRIPTION:Glace 2: Clare 1 v Donna Barrett\, Glace 4: Judy Jeske v Patti 
 Simpson
LOCATION:28 Forbes Street\, Yarmouth\, B5A 4B1\, NS\, CA
SEQUENCE:1776690758
SUMMARY:Wishin' it was Summer Ladies Spiel
URL;VALUE=URI:https://yarmouth.curling.io/fr/events/26468-wishin-it-was-sum
 mer-ladies-spiel/widget
END:VEVENT
BEGIN:VEVENT
DTSTAMP:20260420T131238Z
UID:drawid:203258
DTSTART:20260117T140000
DTEND:20260117T160000
DESCRIPTION:Glace 1: Alex LeBlanc v Barrington 1\, Glace 2: Laura Branchaud
  v Jodi MacMaster\, Glace 3: Margaret Morgan v Lynn Doucet\, Glace 4: Clar
 e 2 v Pauline Bullerw
LOCATION:28 Forbes Street\, Yarmouth\, B5A 4B1\, NS\, CA
SEQUENCE:1776690758
SUMMARY:Wishin' it was Summer Ladies Spiel
URL;VALUE=URI:https://yarmouth.curling.io/fr/events/26468-wishin-it-was-sum
 mer-ladies-spiel/widget
END:VEVENT
BEGIN:VEVENT
DTSTAMP:20260420T131238Z
UID:drawid:193497
DTSTART:20260119T183000
DTEND:20260119T203000
DESCRIPTION:Glace 1: Mike R. v Brian M.\, Glace 2: Dave C. v Gilles R.\, Gl
 ace 3: Alex L. v Charles\, Glace 4: Glen S. v Jack C.\, Glace 5: Jason B. 
 v Pam C.
LOCATION:28 Forbes Street\, Yarmouth\, B5A 4B1\, NS\, CA
SEQUENCE:1776690758
SUMMARY:Monday Night Social by Wendy's
URL;VALUE=URI:https://yarmouth.curling.io/fr/events/26306-monday-night-soci
 al-by-wendy-s/widget
END:VEVENT
BEGIN:VEVENT
DTSTAMP:20260420T131238Z
UID:drawid:207884
DTSTART:20260120T193000
DTEND:20260120T213000
DESCRIPTION:Glace 1: Aaron/Mel v Hilary & Blake\, Glace 2: Rick/Char v Tyle
 r & Alex\, Glace 3: Charles v Michael H.\, Glace 4: Gilles/Gab v Maria & N
 ic\, Glace 5: Jordan/Pam v Logan/Emma
LOCATION:28 Forbes Street\, Yarmouth\, B5A 4B1\, NS\, CA
SEQUENCE:1776690758
SUMMARY:Tuesday Night Doubles (January)
URL;VALUE=URI:https://yarmouth.curling.io/fr/events/26334-tuesday-night-dou
 bles-january/widget
END:VEVENT
BEGIN:VEVENT
DTSTAMP:20260420T131238Z
UID:drawid:196356
DTSTART:20260122T183000
DTEND:20260122T203000
DESCRIPTION:Glace 1: Nic D. v Blake S.\, Glace 2: Dave C. v Warren D.\, Gla
 ce 3: Jack C. v Jason B.\, Glace 4: Wade N. v Nick H.\, Glace 5: Aaron S. 
 v Tyler D.\, Glace 6: Paul D. v Albert W.
LOCATION:28 Forbes Street\, Yarmouth\, B5A 4B1\, NS\, CA
SEQUENCE:1776690758
SUMMARY:Thursday Night Competitive
URL;VALUE=URI:https://yarmouth.curling.io/fr/events/26310-thursday-night-co
 mpetitive/widget
END:VEVENT
BEGIN:VEVENT
DTSTAMP:20260420T131238Z
UID:drawid:193498
DTSTART:20260126T183000
DTEND:20260126T203000
DESCRIPTION:Glace 1: Alex L. v Glen S. (2)\, Glace 2: Brian M. v Rick C. (2
 )\, Glace 3: Charles v Mike R. (2)\, Glace 4: Dave C. v Pam C. (2)\, Glace
  5: Jack C. v Jason B. (2)
LOCATION:28 Forbes Street\, Yarmouth\, B5A 4B1\, NS\, CA
SEQUENCE:1776690758
SUMMARY:Monday Night Social by Wendy's
URL;VALUE=URI:https://yarmouth.curling.io/fr/events/26306-monday-night-soci
 al-by-wendy-s/widget
END:VEVENT
BEGIN:VEVENT
DTSTAMP:20260420T131238Z
UID:drawid:207885
DTSTART:20260127T193000
DTEND:20260127T213000
DESCRIPTION:Glace 1: Charles v Glenn\, Glace 2: Aaron/Mel v Jordan/Pam\, Gl
 ace 3: Hilary & Blake v Maria & Nic\, Glace 4: Logan/Emma v Michael H.\, G
 lace 5: Gilles/Gab v Tyler & Alex
LOCATION:28 Forbes Street\, Yarmouth\, B5A 4B1\, NS\, CA
SEQUENCE:1776690758
SUMMARY:Tuesday Night Doubles (January)
URL;VALUE=URI:https://yarmouth.curling.io/fr/events/26334-tuesday-night-dou
 bles-january/widget
END:VEVENT
BEGIN:VEVENT
DTSTAMP:20260420T131238Z
UID:drawid:196357
DTSTART:20260129T183000
DTEND:20260129T203000
DESCRIPTION:Glace 1: Jason B. v Nick H.\, Glace 2: Paul D. v Wade N.\, Glac
 e 3: Aaron S. v Dave C.\, Glace 4: Jack C. v Nic D.\, Glace 5: Blake S. v 
 Albert W.\, Glace 6: Tyler D. v Warren D.
LOCATION:28 Forbes Street\, Yarmouth\, B5A 4B1\, NS\, CA
SEQUENCE:1776690758
SUMMARY:Thursday Night Competitive
URL;VALUE=URI:https://yarmouth.curling.io/fr/events/26310-thursday-night-co
 mpetitive/widget
END:VEVENT
BEGIN:VEVENT
DTSTAMP:20260420T131238Z
UID:drawid:193499
DTSTART:20260202T183000
DTEND:20260202T203000
DESCRIPTION:Glace 1: Charles v Gilles R. (2)\, Glace 2: Alex L. v Jack C. (
 2)\, Glace 3: Glen S. v Pam C. (2)\, Glace 4: Jason B. v Mike R. (2)\, Gla
 ce 5: Dave C. v Rick C. (2)
LOCATION:28 Forbes Street\, Yarmouth\, B5A 4B1\, NS\, CA
SEQUENCE:1776690758
SUMMARY:Monday Night Social by Wendy's
URL;VALUE=URI:https://yarmouth.curling.io/fr/events/26306-monday-night-soci
 al-by-wendy-s/widget
END:VEVENT
BEGIN:VEVENT
DTSTAMP:20260420T131238Z
UID:drawid:207886
DTSTART:20260203T193000
DTEND:20260203T213000
DESCRIPTION:Glace 1: Gilles/Gab v Hilary & Blake\, Glace 2: Maria & Nic v R
 ick/Char\, Glace 3: Glenn v Tyler & Alex\, Glace 4: Charles v Jordan/Pam\,
  Glace 5: Aaron/Mel v Michael H.
LOCATION:28 Forbes Street\, Yarmouth\, B5A 4B1\, NS\, CA
SEQUENCE:1776690758
SUMMARY:Tuesday Night Doubles (January)
URL;VALUE=URI:https://yarmouth.curling.io/fr/events/26334-tuesday-night-dou
 bles-january/widget
END:VEVENT
BEGIN:VEVENT
DTSTAMP:20260420T131238Z
UID:drawid:193500
DTSTART:20260209T183000
DTEND:20260209T203000
DESCRIPTION:Glace 1: Pam C. v Brian M. (2)\, Glace 2: Dave C. v Glen S. (2)
 \, Glace 3: Gilles R. v Rick C. (2)\, Glace 4: Charles v Jack C. (2)\, Gla
 ce 5: Alex L. v Mike R. (2)
LOCATION:28 Forbes Street\, Yarmouth\, B5A 4B1\, NS\, CA
SEQUENCE:1776690758
SUMMARY:Monday Night Social by Wendy's
URL;VALUE=URI:https://yarmouth.curling.io/fr/events/26306-monday-night-soci
 al-by-wendy-s/widget
END:VEVENT
BEGIN:VEVENT
DTSTAMP:20260420T131238Z
UID:drawid:207887
DTSTART:20260210T193000
DTEND:20260210T213000
DESCRIPTION:Glace 1: Aaron/Mel v Tyler & Alex\, Glace 2: Gilles/Gab v Jorda
 n/Pam\, Glace 3: Maria & Nic v Michael H.\, Glace 4: Logan/Emma v Rick/Cha
 r\, Glace 5: Glenn v Hilary & Blake
LOCATION:28 Forbes Street\, Yarmouth\, B5A 4B1\, NS\, CA
SEQUENCE:1776690758
SUMMARY:Tuesday Night Doubles (January)
URL;VALUE=URI:https://yarmouth.curling.io/fr/events/26334-tuesday-night-dou
 bles-january/widget
END:VEVENT
BEGIN:VEVENT
DTSTAMP:20260420T131238Z
UID:drawid:193501
DTSTART:20260216T183000
DTEND:20260216T203000
DESCRIPTION:Glace 1: Dave C. v Jack C. (2)\, Glace 2: Pam C. v Mike R. (2)\
 , Glace 3: Jason B. v Brian M. (2)\, Glace 4: Alex L. v Rick C. (2)\, Glac
 e 5: Gilles R. v Glen S. (2)
LOCATION:28 Forbes Street\, Yarmouth\, B5A 4B1\, NS\, CA
SEQUENCE:1776690758
SUMMARY:Monday Night Social by Wendy's
URL;VALUE=URI:https://yarmouth.curling.io/fr/events/26306-monday-night-soci
 al-by-wendy-s/widget
END:VEVENT
BEGIN:VEVENT
DTSTAMP:20260420T131238Z
UID:drawid:207877
DTSTART:20260217T193000
DTEND:20260217T213000
DESCRIPTION:Glace 1: Hilary & Blake v Rick/Char\, Glace 2: Charles v Maria 
 & Nic\, Glace 3: Michael H. v Tyler & Alex\, Glace 4: Glenn v Logan/Emma\,
  Glace 5: Aaron/Mel v Gilles/Gab\, Glace 6: Jordan/Pam v George & C
LOCATION:28 Forbes Street\, Yarmouth\, B5A 4B1\, NS\, CA
SEQUENCE:1776690758
SUMMARY:Tuesday Night Doubles (January)
URL;VALUE=URI:https://yarmouth.curling.io/fr/events/26334-tuesday-night-dou
 bles-january/widget
END:VEVENT
BEGIN:VEVENT
DTSTAMP:20260420T131238Z
UID:drawid:207888
DTSTART:20260219T183000
DTEND:20260219T203000
DESCRIPTION:Glace 1: Nic D. v Wade N.\, Glace 2: Paul D. v Aaron S.\, Glace
  3: Albert W. v Dave C.\, Glace 4: Tyler D. v Jason B.\, Glace 5: Jack C. 
 v Warren D.\, Glace 6: Nick H. v Blake S.
LOCATION:28 Forbes Street\, Yarmouth\, B5A 4B1\, NS\, CA
SEQUENCE:1776690758
SUMMARY:Thursday Night Competitive
URL;VALUE=URI:https://yarmouth.curling.io/fr/events/26310-thursday-night-co
 mpetitive/widget
END:VEVENT
BEGIN:VEVENT
DTSTAMP:20260420T131238Z
UID:drawid:193502
DTSTART:20260223T183000
DTEND:20260223T203000
DESCRIPTION:Glace 1: Mike R. v Rick C. (2)\, Glace 2: Gilles R. v Jason B. 
 (2)\, Glace 3: Alex L. v Dave C. (2)\, Glace 4: Glen S. v Brian M. (2)\, G
 lace 5: Charles v Pam C. (2)
LOCATION:28 Forbes Street\, Yarmouth\, B5A 4B1\, NS\, CA
SEQUENCE:1776690758
SUMMARY:Monday Night Social by Wendy's
URL;VALUE=URI:https://yarmouth.curling.io/fr/events/26306-monday-night-soci
 al-by-wendy-s/widget
END:VEVENT
BEGIN:VEVENT
DTSTAMP:20260420T131238Z
UID:drawid:207878
DTSTART:20260224T193000
DTEND:20260224T213000
DESCRIPTION:Glace 1: Gilles/Gab v Rick/Char\, Glace 2: Glenn v Michael H.\,
  Glace 3: Aaron/Mel v Logan/Emma\, Glace 4: Charles v Tyler & Alex\, Glace
  5: Jordan/Pam v Maria & Nic\, Glace 6: Hilary & Blake v George & C
LOCATION:28 Forbes Street\, Yarmouth\, B5A 4B1\, NS\, CA
SEQUENCE:1776690758
SUMMARY:Tuesday Night Doubles (January)
URL;VALUE=URI:https://yarmouth.curling.io/fr/events/26334-tuesday-night-dou
 bles-january/widget
END:VEVENT
BEGIN:VEVENT
DTSTAMP:20260420T131238Z
UID:drawid:207889
DTSTART:20260226T183000
DTEND:20260226T203000
DESCRIPTION:Glace 1: Dave C. v Wade N.\, Glace 2: Nic D. v Paul D.\, Glace 
 3: Aaron S. v Albert W.\, Glace 4: Blake S. v Jason B.\, Glace 5: Tyler D.
  v Warren D.\, Glace 6: Jack C. v Nick H.
LOCATION:28 Forbes Street\, Yarmouth\, B5A 4B1\, NS\, CA
SEQUENCE:1776690758
SUMMARY:Thursday Night Competitive
URL;VALUE=URI:https://yarmouth.curling.io/fr/events/26310-thursday-night-co
 mpetitive/widget
END:VEVENT
BEGIN:VEVENT
DTSTAMP:20260420T131238Z
UID:drawid:193503
DTSTART:20260302T183000
DTEND:20260302T203000
DESCRIPTION:Glace 1: Alex L. v Jason B. (2)\, Glace 2: Charles v Rick C. (2
 )\, Glace 3: Jack C. v Pam C. (2)\, Glace 4: Gilles R. v Mike R. (2)\, Gla
 ce 5: Dave C. v Brian M. (2)
LOCATION:28 Forbes Street\, Yarmouth\, B5A 4B1\, NS\, CA
SEQUENCE:1776690758
SUMMARY:Monday Night Social by Wendy's
URL;VALUE=URI:https://yarmouth.curling.io/fr/events/26306-monday-night-soci
 al-by-wendy-s/widget
END:VEVENT
BEGIN:VEVENT
DTSTAMP:20260420T131238Z
UID:drawid:207879
DTSTART:20260303T193000
DTEND:20260303T213000
DESCRIPTION:Glace 1: Gilles/Gab v George & C\, Glace 2: Aaron/Mel v Maria &
  Nic\, Glace 3: Charles v Hilary & Blake\, Glace 4: Glenn v Rick/Char\, Gl
 ace 5: Logan/Emma v Tyler & Alex\, Glace 6: Jordan/Pam v Michael H.
LOCATION:28 Forbes Street\, Yarmouth\, B5A 4B1\, NS\, CA
SEQUENCE:1776690758
SUMMARY:Tuesday Night Doubles (January)
URL;VALUE=URI:https://yarmouth.curling.io/fr/events/26334-tuesday-night-dou
 bles-january/widget
END:VEVENT
BEGIN:VEVENT
DTSTAMP:20260420T131238Z
UID:drawid:207890
DTSTART:20260305T183000
DTEND:20260305T203000
DESCRIPTION:Glace 1: Nic D. v Dave C.\, Glace 2: Paul D. v Albert W.\, Glac
 e 3: Aaron S. v Wade N.\, Glace 4: Tyler D. v Blake S.\, Glace 5: Nick H. 
 v Warren D.\, Glace 6: Jack C. v Jason B.
LOCATION:28 Forbes Street\, Yarmouth\, B5A 4B1\, NS\, CA
SEQUENCE:1776690758
SUMMARY:Thursday Night Competitive
URL;VALUE=URI:https://yarmouth.curling.io/fr/events/26310-thursday-night-co
 mpetitive/widget
END:VEVENT
BEGIN:VEVENT
DTSTAMP:20260420T131238Z
UID:drawid:193504
DTSTART:20260309T183000
DTEND:20260309T203000
DESCRIPTION:Glace 1: Charles v Glen S. (2)\, Glace 2: Alex L. v Pam C. (2)\
 , Glace 3: Gilles R. v Brian M. (2)\, Glace 4: Jason B. v Rick C. (2)\, Gl
 ace 5: Jack C. v Mike R. (2)
LOCATION:28 Forbes Street\, Yarmouth\, B5A 4B1\, NS\, CA
SEQUENCE:1776690758
SUMMARY:Monday Night Social by Wendy's
URL;VALUE=URI:https://yarmouth.curling.io/fr/events/26306-monday-night-soci
 al-by-wendy-s/widget
END:VEVENT
BEGIN:VEVENT
DTSTAMP:20260420T131238Z
UID:drawid:207880
DTSTART:20260310T193000
DTEND:20260310T213000
DESCRIPTION:Glace 1: Maria & Nic v Tyler & Alex\, Glace 2: Charles v Gilles
 /Gab\, Glace 3: Michael H. v George & C\, Glace 4: Jordan/Pam v Rick/Char\
 , Glace 5: Hilary & Blake v Logan/Emma\, Glace 6: Aaron/Mel v Glenn
LOCATION:28 Forbes Street\, Yarmouth\, B5A 4B1\, NS\, CA
SEQUENCE:1776690758
SUMMARY:Tuesday Night Doubles (January)
URL;VALUE=URI:https://yarmouth.curling.io/fr/events/26334-tuesday-night-dou
 bles-january/widget
END:VEVENT
BEGIN:VEVENT
DTSTAMP:20260420T131238Z
UID:drawid:207891
DTSTART:20260312T183000
DTEND:20260312T203000
DESCRIPTION:Glace 1: Nic D. v Albert W.\, Glace 2: Aaron S. v Dave C.\, Gla
 ce 3: Paul D. v Wade N.\, Glace 4: Tyler D. v Nick H.\, Glace 5: Jack C. v
  Blake S.\, Glace 6: Warren D. v Jason B.
LOCATION:28 Forbes Street\, Yarmouth\, B5A 4B1\, NS\, CA
SEQUENCE:1776690758
SUMMARY:Thursday Night Competitive
URL;VALUE=URI:https://yarmouth.curling.io/fr/events/26310-thursday-night-co
 mpetitive/widget
END:VEVENT
BEGIN:VEVENT
DTSTAMP:20260420T131238Z
UID:drawid:193505
DTSTART:20260316T183000
DTEND:20260316T203000
DESCRIPTION:Glace 1: Pam C. v Rick C. (2)\, Glace 2: Jack C. v Brian M. (2)
 \, Glace 3: Glen S. v Jason B. (2)\, Glace 4: Charles v Dave C. (2)\, Glac
 e 5: Alex L. v Gilles R. (2)
LOCATION:28 Forbes Street\, Yarmouth\, B5A 4B1\, NS\, CA
SEQUENCE:1776690758
SUMMARY:Monday Night Social by Wendy's
URL;VALUE=URI:https://yarmouth.curling.io/fr/events/26306-monday-night-soci
 al-by-wendy-s/widget
END:VEVENT
BEGIN:VEVENT
DTSTAMP:20260420T131238Z
UID:drawid:207881
DTSTART:20260317T193000
DTEND:20260317T213000
DESCRIPTION:Glace 1: Maria & Nic v George & C\, Glace 2: Hilary & Blake v T
 yler & Alex\, Glace 3: Glenn v Jordan/Pam\, Glace 4: Charles v Logan/Emma\
 , Glace 5: Gilles/Gab v Michael H.\, Glace 6: Aaron/Mel v Rick/Char
LOCATION:28 Forbes Street\, Yarmouth\, B5A 4B1\, NS\, CA
SEQUENCE:1776690758
SUMMARY:Tuesday Night Doubles (January)
URL;VALUE=URI:https://yarmouth.curling.io/fr/events/26334-tuesday-night-dou
 bles-january/widget
END:VEVENT
BEGIN:VEVENT
DTSTAMP:20260420T131238Z
UID:drawid:207892
DTSTART:20260319T183000
DTEND:20260319T203000
DESCRIPTION:Glace 1: Nic D. v Aaron S.\, Glace 2: Albert W. v Wade N.\, Gla
 ce 3: Paul D. v Dave C.\, Glace 4: Tyler D. v Jack C.\, Glace 5: Nick H. v
  Jason B.\, Glace 6: Blake S. v Warren D.
LOCATION:28 Forbes Street\, Yarmouth\, B5A 4B1\, NS\, CA
SEQUENCE:1776690758
SUMMARY:Thursday Night Competitive
URL;VALUE=URI:https://yarmouth.curling.io/fr/events/26310-thursday-night-co
 mpetitive/widget
END:VEVENT
BEGIN:VEVENT
DTSTAMP:20260420T131238Z
UID:drawid:193506
DTSTART:20260323T183000
DTEND:20260323T203000
DESCRIPTION:Glace 1: Dave C. v Jason B. (2)\, Glace 2: Glen S. v Mike R. (2
 )\, Glace 3: Jack C. v Rick C. (2)\, Glace 4: Gilles R. v Pam C. (2)\, Gla
 ce 5: Charles v Brian M. (2)
LOCATION:28 Forbes Street\, Yarmouth\, B5A 4B1\, NS\, CA
SEQUENCE:1776690758
SUMMARY:Monday Night Social by Wendy's
URL;VALUE=URI:https://yarmouth.curling.io/fr/events/26306-monday-night-soci
 al-by-wendy-s/widget
END:VEVENT
BEGIN:VEVENT
DTSTAMP:20260420T131238Z
UID:drawid:207882
DTSTART:20260324T193000
DTEND:20260324T213000
DESCRIPTION:
LOCATION:28 Forbes Street\, Yarmouth\, B5A 4B1\, NS\, CA
SEQUENCE:1776690758
SUMMARY:Tuesday Night Doubles (January)
URL;VALUE=URI:https://yarmouth.curling.io/fr/events/26334-tuesday-night-dou
 bles-january/widget
END:VEVENT
BEGIN:VEVENT
DTSTAMP:20260420T131238Z
UID:drawid:207893
DTSTART:20260326T183000
DTEND:20260326T203000
DESCRIPTION:
LOCATION:28 Forbes Street\, Yarmouth\, B5A 4B1\, NS\, CA
SEQUENCE:1776690758
SUMMARY:Thursday Night Competitive
URL;VALUE=URI:https://yarmouth.curling.io/fr/events/26310-thursday-night-co
 mpetitive/widget
END:VEVENT
END:VCALENDAR
