BEGIN:VCALENDAR
VERSION:2.0
PRODID:icalendar-ruby
CALSCALE:GREGORIAN
METHOD:PUBLISH
X-WR-CALNAME:Tuesday Night Doubles (January) Calendrier
BEGIN:VTIMEZONE
TZID:America/Halifax
BEGIN:DAYLIGHT
DTSTART:20260308T030000
TZOFFSETFROM:-0400
TZOFFSETTO:-0300
RRULE:FREQ=YEARLY;BYDAY=2SU;BYMONTH=3
TZNAME:ADT
END:DAYLIGHT
BEGIN:STANDARD
DTSTART:20261101T010000
TZOFFSETFROM:-0300
TZOFFSETTO:-0400
RRULE:FREQ=YEARLY;BYDAY=1SU;BYMONTH=11
TZNAME:AST
END:STANDARD
END:VTIMEZONE
BEGIN:VEVENT
DTSTAMP:20260420T131238Z
UID:drawid:207883
DTSTART:20260113T193000
DTEND:20260113T213000
DESCRIPTION:Parties: TBD\, TBD\, TBD\, TBD\, TBD
LOCATION:28 Forbes Street\, Yarmouth\, B5A 4B1\, NS\, CA
SEQUENCE:1776690758
SUMMARY:Tuesday Night Doubles (January)
URL;VALUE=URI:https://yarmouth.curling.io/fr/events/26334-tuesday-night-dou
 bles-january/draws
END:VEVENT
BEGIN:VEVENT
DTSTAMP:20260420T131238Z
UID:drawid:207884
DTSTART:20260120T193000
DTEND:20260120T213000
DESCRIPTION:Parties: TBD\, TBD\, TBD\, TBD\, TBD
LOCATION:28 Forbes Street\, Yarmouth\, B5A 4B1\, NS\, CA
SEQUENCE:1776690758
SUMMARY:Tuesday Night Doubles (January)
URL;VALUE=URI:https://yarmouth.curling.io/fr/events/26334-tuesday-night-dou
 bles-january/draws
END:VEVENT
BEGIN:VEVENT
DTSTAMP:20260420T131238Z
UID:drawid:207885
DTSTART:20260127T193000
DTEND:20260127T213000
DESCRIPTION:Parties: TBD\, TBD\, TBD\, TBD\, TBD
LOCATION:28 Forbes Street\, Yarmouth\, B5A 4B1\, NS\, CA
SEQUENCE:1776690758
SUMMARY:Tuesday Night Doubles (January)
URL;VALUE=URI:https://yarmouth.curling.io/fr/events/26334-tuesday-night-dou
 bles-january/draws
END:VEVENT
BEGIN:VEVENT
DTSTAMP:20260420T131238Z
UID:drawid:207886
DTSTART:20260203T193000
DTEND:20260203T213000
DESCRIPTION:Parties: TBD\, TBD\, TBD\, TBD\, TBD
LOCATION:28 Forbes Street\, Yarmouth\, B5A 4B1\, NS\, CA
SEQUENCE:1776690758
SUMMARY:Tuesday Night Doubles (January)
URL;VALUE=URI:https://yarmouth.curling.io/fr/events/26334-tuesday-night-dou
 bles-january/draws
END:VEVENT
BEGIN:VEVENT
DTSTAMP:20260420T131238Z
UID:drawid:207887
DTSTART:20260210T193000
DTEND:20260210T213000
DESCRIPTION:Parties: TBD\, TBD\, TBD\, TBD\, TBD
LOCATION:28 Forbes Street\, Yarmouth\, B5A 4B1\, NS\, CA
SEQUENCE:1776690758
SUMMARY:Tuesday Night Doubles (January)
URL;VALUE=URI:https://yarmouth.curling.io/fr/events/26334-tuesday-night-dou
 bles-january/draws
END:VEVENT
BEGIN:VEVENT
DTSTAMP:20260420T131238Z
UID:drawid:207877
DTSTART:20260217T193000
DTEND:20260217T213000
DESCRIPTION:Parties: TBD\, TBD\, TBD\, TBD\, TBD\, TBD
LOCATION:28 Forbes Street\, Yarmouth\, B5A 4B1\, NS\, CA
SEQUENCE:1776690758
SUMMARY:Tuesday Night Doubles (January)
URL;VALUE=URI:https://yarmouth.curling.io/fr/events/26334-tuesday-night-dou
 bles-january/draws
END:VEVENT
BEGIN:VEVENT
DTSTAMP:20260420T131238Z
UID:drawid:207878
DTSTART:20260224T193000
DTEND:20260224T213000
DESCRIPTION:Parties: TBD\, TBD\, TBD\, TBD\, TBD\, TBD
LOCATION:28 Forbes Street\, Yarmouth\, B5A 4B1\, NS\, CA
SEQUENCE:1776690758
SUMMARY:Tuesday Night Doubles (January)
URL;VALUE=URI:https://yarmouth.curling.io/fr/events/26334-tuesday-night-dou
 bles-january/draws
END:VEVENT
BEGIN:VEVENT
DTSTAMP:20260420T131238Z
UID:drawid:207879
DTSTART:20260303T193000
DTEND:20260303T213000
DESCRIPTION:Parties: TBD\, TBD\, TBD\, TBD\, TBD\, TBD
LOCATION:28 Forbes Street\, Yarmouth\, B5A 4B1\, NS\, CA
SEQUENCE:1776690758
SUMMARY:Tuesday Night Doubles (January)
URL;VALUE=URI:https://yarmouth.curling.io/fr/events/26334-tuesday-night-dou
 bles-january/draws
END:VEVENT
BEGIN:VEVENT
DTSTAMP:20260420T131238Z
UID:drawid:207880
DTSTART:20260310T193000
DTEND:20260310T213000
DESCRIPTION:Parties: TBD\, TBD\, TBD\, TBD\, TBD\, TBD
LOCATION:28 Forbes Street\, Yarmouth\, B5A 4B1\, NS\, CA
SEQUENCE:1776690758
SUMMARY:Tuesday Night Doubles (January)
URL;VALUE=URI:https://yarmouth.curling.io/fr/events/26334-tuesday-night-dou
 bles-january/draws
END:VEVENT
BEGIN:VEVENT
DTSTAMP:20260420T131238Z
UID:drawid:207881
DTSTART:20260317T193000
DTEND:20260317T213000
DESCRIPTION:Parties: TBD\, TBD\, TBD\, TBD\, TBD\, TBD
LOCATION:28 Forbes Street\, Yarmouth\, B5A 4B1\, NS\, CA
SEQUENCE:1776690758
SUMMARY:Tuesday Night Doubles (January)
URL;VALUE=URI:https://yarmouth.curling.io/fr/events/26334-tuesday-night-dou
 bles-january/draws
END:VEVENT
BEGIN:VEVENT
DTSTAMP:20260420T131238Z
UID:drawid:207882
DTSTART:20260324T193000
DTEND:20260324T213000
DESCRIPTION:Parties: 
LOCATION:28 Forbes Street\, Yarmouth\, B5A 4B1\, NS\, CA
SEQUENCE:1776690758
SUMMARY:Tuesday Night Doubles (January)
URL;VALUE=URI:https://yarmouth.curling.io/fr/events/26334-tuesday-night-dou
 bles-january/draws
END:VEVENT
END:VCALENDAR
